BEGIN:VCALENDAR
VERSION:2.0
PRODID:-//Growing Humankindness - ECPv6.15.20//NONSGML v1.0//EN
CALSCALE:GREGORIAN
METHOD:PUBLISH
X-WR-CALNAME:Growing Humankindness
X-ORIGINAL-URL:https://growinghumankindness.com
X-WR-CALDESC:Events for Growing Humankindness
REFRESH-INTERVAL;VALUE=DURATION:PT1H
X-Robots-Tag:noindex
X-PUBLISHED-TTL:PT1H
BEGIN:VTIMEZONE
TZID:America/New_York
BEGIN:DAYLIGHT
TZOFFSETFROM:-0500
TZOFFSETTO:-0400
TZNAME:EDT
DTSTART:20190310T070000
END:DAYLIGHT
BEGIN:STANDARD
TZOFFSETFROM:-0400
TZOFFSETTO:-0500
TZNAME:EST
DTSTART:20191103T060000
END:STANDARD
BEGIN:DAYLIGHT
TZOFFSETFROM:-0500
TZOFFSETTO:-0400
TZNAME:EDT
DTSTART:20200308T070000
END:DAYLIGHT
BEGIN:STANDARD
TZOFFSETFROM:-0400
TZOFFSETTO:-0500
TZNAME:EST
DTSTART:20201101T060000
END:STANDARD
BEGIN:DAYLIGHT
TZOFFSETFROM:-0500
TZOFFSETTO:-0400
TZNAME:EDT
DTSTART:20210314T070000
END:DAYLIGHT
BEGIN:STANDARD
TZOFFSETFROM:-0400
TZOFFSETTO:-0500
TZNAME:EST
DTSTART:20211107T060000
END:STANDARD
BEGIN:DAYLIGHT
TZOFFSETFROM:-0500
TZOFFSETTO:-0400
TZNAME:EDT
DTSTART:20220313T070000
END:DAYLIGHT
BEGIN:STANDARD
TZOFFSETFROM:-0400
TZOFFSETTO:-0500
TZNAME:EST
DTSTART:20221106T060000
END:STANDARD
BEGIN:DAYLIGHT
TZOFFSETFROM:-0500
TZOFFSETTO:-0400
TZNAME:EDT
DTSTART:20230312T070000
END:DAYLIGHT
BEGIN:STANDARD
TZOFFSETFROM:-0400
TZOFFSETTO:-0500
TZNAME:EST
DTSTART:20231105T060000
END:STANDARD
BEGIN:DAYLIGHT
TZOFFSETFROM:-0500
TZOFFSETTO:-0400
TZNAME:EDT
DTSTART:20240310T070000
END:DAYLIGHT
BEGIN:STANDARD
TZOFFSETFROM:-0400
TZOFFSETTO:-0500
TZNAME:EST
DTSTART:20241103T060000
END:STANDARD
BEGIN:DAYLIGHT
TZOFFSETFROM:-0500
TZOFFSETTO:-0400
TZNAME:EDT
DTSTART:20250309T070000
END:DAYLIGHT
BEGIN:STANDARD
TZOFFSETFROM:-0400
TZOFFSETTO:-0500
TZNAME:EST
DTSTART:20251102T060000
END:STANDARD
END:VTIMEZONE
BEGIN:VTIMEZONE
TZID:Asia/Karachi
BEGIN:STANDARD
TZOFFSETFROM:+0500
TZOFFSETTO:+0500
TZNAME:PKT
DTSTART:20190101T000000
END:STANDARD
END:VTIMEZONE
BEGIN:VEVENT
DTSTART;TZID=America/New_York:20240101T140000
DTEND;TZID=America/New_York:20240630T153000
DTSTAMP:20260425T125624
CREATED:20231204T005642Z
LAST-MODIFIED:20240501T145403Z
UID:64760-1704117600-1719761400@growinghumankindness.com
SUMMARY:Growing Humankindness community - January through June 2024
DESCRIPTION:If you reactively push against help or get stuck in feelings of resistance – “No\, you can’t make me!” – when you try to make positive changes with food\, it can be so frustrating. In Align: Heal the Battle with Your Inner Rebel\, you’ll learn how to soften the inner conflict between the part of you that wants to change and the part of you that pushes back. Defusing this conflict will help you follow through on the changes you want to make with food\, set limits\, and express a greater sense of power and agency in your life. You can learn more and sign up for the class here.
URL:https://growinghumankindness.com/event/community_2024/
CATEGORIES:Community
ATTACH;FMTTYPE=image/png:https://growinghumankindness.com/wp-content/uploads/2022/09/The-Growing-500px.png
END:VEVENT
BEGIN:VEVENT
DTSTART;TZID=America/New_York:20231127T140000
DTEND;TZID=America/New_York:20240102T153000
DTSTAMP:20260425T125624
CREATED:20231103T214239Z
LAST-MODIFIED:20231108T210230Z
UID:64689-1701093600-1704209400@growinghumankindness.com
SUMMARY:Soften a Sugar Habit with Presence\, Compassion and Grief
DESCRIPTION:If you reactively push against help or get stuck in feelings of resistance – “No\, you can’t make me!” – when you try to make positive changes with food\, it can be so frustrating. In Align: Heal the Battle with Your Inner Rebel\, you’ll learn how to soften the inner conflict between the part of you that wants to change and the part of you that pushes back. Defusing this conflict will help you follow through on the changes you want to make with food\, set limits\, and express a greater sense of power and agency in your life. You can learn more and sign up for the class here.
URL:https://growinghumankindness.com/event/softening/
CATEGORIES:Online class
ATTACH;FMTTYPE=image/png:https://growinghumankindness.com/wp-content/uploads/2014/03/post18.png
ORGANIZER;CN="Karly Randolph Pitman":MAILTO:help@growinghumankindness.com
END:VEVENT
BEGIN:VEVENT
DTSTART;TZID=America/New_York:20231016T080000
DTEND;TZID=America/New_York:20231023T170000
DTSTAMP:20260425T125624
CREATED:20231010T202229Z
LAST-MODIFIED:20231013T222709Z
UID:64655-1697443200-1698080400@growinghumankindness.com
SUMMARY:Kick Sugar Summit - 2023
DESCRIPTION:If you reactively push against help or get stuck in feelings of resistance – “No\, you can’t make me!” – when you try to make positive changes with food\, it can be so frustrating. In Align: Heal the Battle with Your Inner Rebel\, you’ll learn how to soften the inner conflict between the part of you that wants to change and the part of you that pushes back. Defusing this conflict will help you follow through on the changes you want to make with food\, set limits\, and express a greater sense of power and agency in your life. You can learn more and sign up for the class here.
URL:https://growinghumankindness.com/event/kick-sugar-summit-2023/
CATEGORIES:Free webinar,Online class
ATTACH;FMTTYPE=image/jpeg:https://growinghumankindness.com/wp-content/uploads/2023/10/KARLY-PITMAN.jpg
END:VEVENT
BEGIN:VEVENT
DTSTART;TZID=America/New_York:20230925T080000
DTEND;TZID=America/New_York:20231117T170000
DTSTAMP:20260425T125624
CREATED:20230810T192208Z
LAST-MODIFIED:20230812T211659Z
UID:63897-1695628800-1700240400@growinghumankindness.com
SUMMARY:When Food is Your Mother - 2023 class
DESCRIPTION:If you reactively push against help or get stuck in feelings of resistance – “No\, you can’t make me!” – when you try to make positive changes with food\, it can be so frustrating. In Align: Heal the Battle with Your Inner Rebel\, you’ll learn how to soften the inner conflict between the part of you that wants to change and the part of you that pushes back. Defusing this conflict will help you follow through on the changes you want to make with food\, set limits\, and express a greater sense of power and agency in your life. You can learn more and sign up for the class here.
URL:https://growinghumankindness.com/event/mother-2023/
CATEGORIES:Online class
ATTACH;FMTTYPE=image/png:https://growinghumankindness.com/wp-content/uploads/2022/06/wfiym-800w-Horizontal-nobackground.png
END:VEVENT
BEGIN:VEVENT
DTSTART;TZID=America/New_York:20230828T080000
DTEND;TZID=America/New_York:20230922T170000
DTSTAMP:20260425T125624
CREATED:20230811T201152Z
LAST-MODIFIED:20230829T224728Z
UID:64229-1693209600-1695402000@growinghumankindness.com
SUMMARY:Growing Humankindness community - open for new members
DESCRIPTION:If you reactively push against help or get stuck in feelings of resistance – “No\, you can’t make me!” – when you try to make positive changes with food\, it can be so frustrating. In Align: Heal the Battle with Your Inner Rebel\, you’ll learn how to soften the inner conflict between the part of you that wants to change and the part of you that pushes back. Defusing this conflict will help you follow through on the changes you want to make with food\, set limits\, and express a greater sense of power and agency in your life. You can learn more and sign up for the class here.
URL:https://growinghumankindness.com/event/community/
CATEGORIES:Community is open for new members
ATTACH;FMTTYPE=image/png:https://growinghumankindness.com/wp-content/uploads/2023/02/The-Growing-900px.png
ORGANIZER;CN="Karly Randolph Pitman":MAILTO:help@growinghumankindness.com
END:VEVENT
BEGIN:VEVENT
DTSTART;TZID=America/New_York:20230605T080000
DTEND;TZID=America/New_York:20230710T170000
DTSTAMP:20260425T125624
CREATED:20230410T164608Z
LAST-MODIFIED:20230410T164608Z
UID:64373-1685952000-1689008400@growinghumankindness.com
SUMMARY:Emerge: Create a New Habit
DESCRIPTION:If you reactively push against help or get stuck in feelings of resistance – “No\, you can’t make me!” – when you try to make positive changes with food\, it can be so frustrating. In Align: Heal the Battle with Your Inner Rebel\, you’ll learn how to soften the inner conflict between the part of you that wants to change and the part of you that pushes back. Defusing this conflict will help you follow through on the changes you want to make with food\, set limits\, and express a greater sense of power and agency in your life. You can learn more and sign up for the class here.
URL:https://growinghumankindness.com/event/emerge-create-a-new-habit/
CATEGORIES:Online class
ATTACH;FMTTYPE=image/png:https://growinghumankindness.com/wp-content/uploads/2019/07/Emerge-Complete-850px.png
END:VEVENT
BEGIN:VEVENT
DTSTART;TZID=America/New_York:20220927T080000
DTEND;TZID=America/New_York:20221122T170000
DTSTAMP:20260425T125624
CREATED:20220607T223928Z
LAST-MODIFIED:20220826T180601Z
UID:63662-1664265600-1669136400@growinghumankindness.com
SUMMARY:When Food is Your Mother - 2022 class
DESCRIPTION:If you reactively push against help or get stuck in feelings of resistance – “No\, you can’t make me!” – when you try to make positive changes with food\, it can be so frustrating. In Align: Heal the Battle with Your Inner Rebel\, you’ll learn how to soften the inner conflict between the part of you that wants to change and the part of you that pushes back. Defusing this conflict will help you follow through on the changes you want to make with food\, set limits\, and express a greater sense of power and agency in your life. You can learn more and sign up for the class here.
URL:https://growinghumankindness.com/event/mother-2022-class/
CATEGORIES:Online class
ATTACH;FMTTYPE=image/png:https://growinghumankindness.com/wp-content/uploads/2022/06/wfiym-800w-Horizontal-nobackground.png
END:VEVENT
BEGIN:VEVENT
DTSTART;TZID=America/New_York:20220901T080000
DTEND;TZID=America/New_York:20220908T170000
DTSTAMP:20260425T125624
CREATED:20220830T192944Z
LAST-MODIFIED:20220830T193147Z
UID:63904-1662019200-1662656400@growinghumankindness.com
SUMMARY:Kick Sugar Summit 2022
DESCRIPTION:If you reactively push against help or get stuck in feelings of resistance – “No\, you can’t make me!” – when you try to make positive changes with food\, it can be so frustrating. In Align: Heal the Battle with Your Inner Rebel\, you’ll learn how to soften the inner conflict between the part of you that wants to change and the part of you that pushes back. Defusing this conflict will help you follow through on the changes you want to make with food\, set limits\, and express a greater sense of power and agency in your life. You can learn more and sign up for the class here.
URL:https://growinghumankindness.com/event/kick-sugar-summit-2022/
CATEGORIES:Online class
ATTACH;FMTTYPE=image/jpeg:https://growinghumankindness.com/wp-content/uploads/2022/08/00594a39c7.jpg
END:VEVENT
BEGIN:VEVENT
DTSTART;TZID=America/New_York:20210802T080000
DTEND;TZID=America/New_York:20210929T170000
DTSTAMP:20260425T125624
CREATED:20201119T073627Z
LAST-MODIFIED:20210511T235622Z
UID:62778-1627891200-1632934800@growinghumankindness.com
SUMMARY:When Food is Your Mother - 2021 class
DESCRIPTION:If you reactively push against help or get stuck in feelings of resistance – “No\, you can’t make me!” – when you try to make positive changes with food\, it can be so frustrating. In Align: Heal the Battle with Your Inner Rebel\, you’ll learn how to soften the inner conflict between the part of you that wants to change and the part of you that pushes back. Defusing this conflict will help you follow through on the changes you want to make with food\, set limits\, and express a greater sense of power and agency in your life. You can learn more and sign up for the class here.
URL:https://growinghumankindness.com/event/when-food-is-your-mother-2021-class/
CATEGORIES:Online class
ATTACH;FMTTYPE=image/png:https://growinghumankindness.com/wp-content/uploads/2019/08/wfiym-Horizontal-no-background_400w.png
ORGANIZER;CN="Karly Randolph Pitman":MAILTO:help@growinghumankindness.com
END:VEVENT
BEGIN:VEVENT
DTSTART;TZID=America/New_York:20210322T080000
DTEND;TZID=America/New_York:20210430T170000
DTSTAMP:20260425T125624
CREATED:20201119T073012Z
LAST-MODIFIED:20210511T235547Z
UID:62774-1616400000-1619802000@growinghumankindness.com
SUMMARY:Book of Love - 2021 class
DESCRIPTION:If you reactively push against help or get stuck in feelings of resistance – “No\, you can’t make me!” – when you try to make positive changes with food\, it can be so frustrating. In Align: Heal the Battle with Your Inner Rebel\, you’ll learn how to soften the inner conflict between the part of you that wants to change and the part of you that pushes back. Defusing this conflict will help you follow through on the changes you want to make with food\, set limits\, and express a greater sense of power and agency in your life. You can learn more and sign up for the class here.
URL:https://growinghumankindness.com/event/book-of-love-2021-class/
CATEGORIES:Online class
ATTACH;FMTTYPE=image/png:https://growinghumankindness.com/wp-content/uploads/2019/07/The-Book-Of-Love-Color.png
ORGANIZER;CN="Karly Randolph Pitman":MAILTO:help@growinghumankindness.com
END:VEVENT
BEGIN:VEVENT
DTSTART;TZID=America/New_York:20201102T080000
DTEND;TZID=America/New_York:20211028T170000
DTSTAMP:20260425T125624
CREATED:20201001T180229Z
LAST-MODIFIED:20210511T235406Z
UID:62541-1604304000-1635440400@growinghumankindness.com
SUMMARY:Small group intensive:  Nurturing the Inner Mother
DESCRIPTION:If you reactively push against help or get stuck in feelings of resistance – “No\, you can’t make me!” – when you try to make positive changes with food\, it can be so frustrating. In Align: Heal the Battle with Your Inner Rebel\, you’ll learn how to soften the inner conflict between the part of you that wants to change and the part of you that pushes back. Defusing this conflict will help you follow through on the changes you want to make with food\, set limits\, and express a greater sense of power and agency in your life. You can learn more and sign up for the class here.
URL:https://growinghumankindness.com/event/nurture/
CATEGORIES:Online class
ATTACH;FMTTYPE=image/png:https://growinghumankindness.com/wp-content/uploads/2020/10/ImageText-400px.png
END:VEVENT
BEGIN:VEVENT
DTSTART;TZID=America/New_York:20201101T080000
DTEND;TZID=America/New_York:20211101T170000
DTSTAMP:20260425T125624
CREATED:20201119T074059Z
LAST-MODIFIED:20220607T224319Z
UID:62781-1604217600-1635786000@growinghumankindness.com
SUMMARY:Small group intensive 2021:  Nurturing the Inner Mother
DESCRIPTION:If you reactively push against help or get stuck in feelings of resistance – “No\, you can’t make me!” – when you try to make positive changes with food\, it can be so frustrating. In Align: Heal the Battle with Your Inner Rebel\, you’ll learn how to soften the inner conflict between the part of you that wants to change and the part of you that pushes back. Defusing this conflict will help you follow through on the changes you want to make with food\, set limits\, and express a greater sense of power and agency in your life. You can learn more and sign up for the class here.
URL:https://growinghumankindness.com/event/small-group-intensive-2021-nurturing-the-inner-mother/
CATEGORIES:Online class
ATTACH;FMTTYPE=image/png:https://growinghumankindness.com/wp-content/uploads/2020/10/ImageText-400px.png
END:VEVENT
BEGIN:VEVENT
DTSTART;VALUE=DATE:20200727
DTEND;VALUE=DATE:20200918
DTSTAMP:20260425T125624
CREATED:20191212T164441Z
LAST-MODIFIED:20201001T175335Z
UID:62275-1595808000-1600387199@growinghumankindness.com
SUMMARY:When Food is Your Mother
DESCRIPTION:If you reactively push against help or get stuck in feelings of resistance – “No\, you can’t make me!” – when you try to make positive changes with food\, it can be so frustrating. In Align: Heal the Battle with Your Inner Rebel\, you’ll learn how to soften the inner conflict between the part of you that wants to change and the part of you that pushes back. Defusing this conflict will help you follow through on the changes you want to make with food\, set limits\, and express a greater sense of power and agency in your life. You can learn more and sign up for the class here.
URL:https://growinghumankindness.com/event/when-food-is-your-mother/
CATEGORIES:Online class
ATTACH;FMTTYPE=image/png:https://growinghumankindness.com/wp-content/uploads/2019/08/wfiym-800w-Horizontal-nobackground.png
END:VEVENT
BEGIN:VEVENT
DTSTART;TZID=America/New_York:20200507T130000
DTEND;TZID=America/New_York:20200507T140000
DTSTAMP:20260425T125624
CREATED:20200401T031531Z
LAST-MODIFIED:20201001T180520Z
UID:62381-1588856400-1588860000@growinghumankindness.com
SUMMARY:Emerge community class Q&A - week 4
DESCRIPTION:If you reactively push against help or get stuck in feelings of resistance – “No\, you can’t make me!” – when you try to make positive changes with food\, it can be so frustrating. In Align: Heal the Battle with Your Inner Rebel\, you’ll learn how to soften the inner conflict between the part of you that wants to change and the part of you that pushes back. Defusing this conflict will help you follow through on the changes you want to make with food\, set limits\, and express a greater sense of power and agency in your life. You can learn more and sign up for the class here.
URL:https://growinghumankindness.com/event/emerge-community-class-qa-week-4/
CATEGORIES:Online class
ATTACH;FMTTYPE=image/png:https://growinghumankindness.com/wp-content/uploads/2019/08/Emerge-Younger-Sprout-550px.png
END:VEVENT
BEGIN:VEVENT
DTSTART;TZID=America/New_York:20200430T130000
DTEND;TZID=America/New_York:20200430T140000
DTSTAMP:20260425T125624
CREATED:20200401T031334Z
LAST-MODIFIED:20200401T031534Z
UID:62380-1588251600-1588255200@growinghumankindness.com
SUMMARY:Emerge community class Q&A - week 3
DESCRIPTION:If you reactively push against help or get stuck in feelings of resistance – “No\, you can’t make me!” – when you try to make positive changes with food\, it can be so frustrating. In Align: Heal the Battle with Your Inner Rebel\, you’ll learn how to soften the inner conflict between the part of you that wants to change and the part of you that pushes back. Defusing this conflict will help you follow through on the changes you want to make with food\, set limits\, and express a greater sense of power and agency in your life. You can learn more and sign up for the class here.
URL:https://growinghumankindness.com/event/emerge-community-class-qa-week-3/
CATEGORIES:Online class
ATTACH;FMTTYPE=image/png:https://growinghumankindness.com/wp-content/uploads/2019/07/Emerge-Complete-850px.png
END:VEVENT
BEGIN:VEVENT
DTSTART;TZID=America/New_York:20200423T130000
DTEND;TZID=America/New_York:20200423T140000
DTSTAMP:20260425T125624
CREATED:20200401T031126Z
LAST-MODIFIED:20200401T031126Z
UID:62379-1587646800-1587650400@growinghumankindness.com
SUMMARY:Emerge community class Q&A - week 2
DESCRIPTION:If you reactively push against help or get stuck in feelings of resistance – “No\, you can’t make me!” – when you try to make positive changes with food\, it can be so frustrating. In Align: Heal the Battle with Your Inner Rebel\, you’ll learn how to soften the inner conflict between the part of you that wants to change and the part of you that pushes back. Defusing this conflict will help you follow through on the changes you want to make with food\, set limits\, and express a greater sense of power and agency in your life. You can learn more and sign up for the class here.
URL:https://growinghumankindness.com/event/emerge-community-class-qa-week-2/
CATEGORIES:Online class
ATTACH;FMTTYPE=image/png:https://growinghumankindness.com/wp-content/uploads/2019/07/Emerge-Complete-850px.png
END:VEVENT
BEGIN:VEVENT
DTSTART;TZID=Asia/Karachi:20200416T130000
DTEND;TZID=Asia/Karachi:20200416T140000
DTSTAMP:20260425T125624
CREATED:20200331T222857Z
LAST-MODIFIED:20200401T031538Z
UID:62378-1587042000-1587045600@growinghumankindness.com
SUMMARY:Emerge community class Q&A - week 1
DESCRIPTION:If you reactively push against help or get stuck in feelings of resistance – “No\, you can’t make me!” – when you try to make positive changes with food\, it can be so frustrating. In Align: Heal the Battle with Your Inner Rebel\, you’ll learn how to soften the inner conflict between the part of you that wants to change and the part of you that pushes back. Defusing this conflict will help you follow through on the changes you want to make with food\, set limits\, and express a greater sense of power and agency in your life. You can learn more and sign up for the class here.
URL:https://growinghumankindness.com/event/emerge-community-class-qa-week-1/
CATEGORIES:Online class
ATTACH;FMTTYPE=image/png:https://growinghumankindness.com/wp-content/uploads/2019/07/Emerge-Complete-850px.png
ORGANIZER;CN="Karly Randolph Pitman":MAILTO:help@growinghumankindness.com
END:VEVENT
BEGIN:VEVENT
DTSTART;TZID=America/New_York:20200227T120000
DTEND;TZID=America/New_York:20200227T130000
DTSTAMP:20260425T125624
CREATED:20200110T195306Z
LAST-MODIFIED:20200110T195306Z
UID:62310-1582804800-1582808400@growinghumankindness.com
SUMMARY:Align:  Heal the battle with your inner rebel - Q&A
DESCRIPTION:If you reactively push against help or get stuck in feelings of resistance – “No\, you can’t make me!” – when you try to make positive changes with food\, it can be so frustrating. In Align: Heal the Battle with Your Inner Rebel\, you’ll learn how to soften the inner conflict between the part of you that wants to change and the part of you that pushes back. Defusing this conflict will help you follow through on the changes you want to make with food\, set limits\, and express a greater sense of power and agency in your life. You can learn more and sign up for the class here.
URL:https://growinghumankindness.com/event/align-heal-the-battle-with-your-inner-rebel-qa-2/
LOCATION:Online
CATEGORIES:Online class
ATTACH;FMTTYPE=image/png:https://growinghumankindness.com/wp-content/uploads/2019/12/Align-With-Sub-900px.png
END:VEVENT
BEGIN:VEVENT
DTSTART;TZID=America/New_York:20200213T120000
DTEND;TZID=America/New_York:20200213T130000
DTSTAMP:20260425T125624
CREATED:20200110T195050Z
LAST-MODIFIED:20200110T195050Z
UID:62309-1581595200-1581598800@growinghumankindness.com
SUMMARY:Align: Heal the battle with your inner rebel – Q&A
DESCRIPTION:If you reactively push against help or get stuck in feelings of resistance – “No\, you can’t make me!” – when you try to make positive changes with food\, it can be so frustrating. In Align: Heal the Battle with Your Inner Rebel\, you’ll learn how to soften the inner conflict between the part of you that wants to change and the part of you that pushes back. Defusing this conflict will help you follow through on the changes you want to make with food\, set limits\, and express a greater sense of power and agency in your life. You can learn more and sign up for the class here.
URL:https://growinghumankindness.com/event/align-heal-the-battle-with-your-inner-rebel-qa/
LOCATION:Online
CATEGORIES:Online class
ATTACH;FMTTYPE=image/png:https://growinghumankindness.com/wp-content/uploads/2019/12/Align-With-Sub-900px.png
END:VEVENT
BEGIN:VEVENT
DTSTART;TZID=America/New_York:20200130T120000
DTEND;TZID=America/New_York:20200130T130000
DTSTAMP:20260425T125624
CREATED:20191212T155323Z
LAST-MODIFIED:20200110T195102Z
UID:62271-1580385600-1580389200@growinghumankindness.com
SUMMARY:Align:  Heal the battle with your inner rebel - Q&A
DESCRIPTION:If you reactively push against help or get stuck in feelings of resistance – “No\, you can’t make me!” – when you try to make positive changes with food\, it can be so frustrating. In Align: Heal the Battle with Your Inner Rebel\, you’ll learn how to soften the inner conflict between the part of you that wants to change and the part of you that pushes back. Defusing this conflict will help you follow through on the changes you want to make with food\, set limits\, and express a greater sense of power and agency in your life. You can learn more and sign up for the class here.
URL:https://growinghumankindness.com/event/align/
LOCATION:Online
CATEGORIES:Online class
ATTACH;FMTTYPE=image/png:https://growinghumankindness.com/wp-content/uploads/2019/12/Align-With-Sub-900px.png
END:VEVENT
END:VCALENDAR