BEGIN:VCALENDAR
VERSION:2.0
PRODID:-//Growing Humankindness - ECPv6.15.20//NONSGML v1.0//EN
CALSCALE:GREGORIAN
METHOD:PUBLISH
X-WR-CALNAME:Growing Humankindness
X-ORIGINAL-URL:https://growinghumankindness.com
X-WR-CALDESC:Events for Growing Humankindness
REFRESH-INTERVAL;VALUE=DURATION:PT1H
X-Robots-Tag:noindex
X-PUBLISHED-TTL:PT1H
BEGIN:VTIMEZONE
TZID:America/New_York
BEGIN:DAYLIGHT
TZOFFSETFROM:-0500
TZOFFSETTO:-0400
TZNAME:EDT
DTSTART:20240310T070000
END:DAYLIGHT
BEGIN:STANDARD
TZOFFSETFROM:-0400
TZOFFSETTO:-0500
TZNAME:EST
DTSTART:20241103T060000
END:STANDARD
BEGIN:DAYLIGHT
TZOFFSETFROM:-0500
TZOFFSETTO:-0400
TZNAME:EDT
DTSTART:20250309T070000
END:DAYLIGHT
BEGIN:STANDARD
TZOFFSETFROM:-0400
TZOFFSETTO:-0500
TZNAME:EST
DTSTART:20251102T060000
END:STANDARD
BEGIN:DAYLIGHT
TZOFFSETFROM:-0500
TZOFFSETTO:-0400
TZNAME:EDT
DTSTART:20260308T070000
END:DAYLIGHT
BEGIN:STANDARD
TZOFFSETFROM:-0400
TZOFFSETTO:-0500
TZNAME:EST
DTSTART:20261101T060000
END:STANDARD
BEGIN:DAYLIGHT
TZOFFSETFROM:-0500
TZOFFSETTO:-0400
TZNAME:EDT
DTSTART:20270314T070000
END:DAYLIGHT
BEGIN:STANDARD
TZOFFSETFROM:-0400
TZOFFSETTO:-0500
TZNAME:EST
DTSTART:20271107T060000
END:STANDARD
END:VTIMEZONE
BEGIN:VEVENT
DTSTART;TZID=America/New_York:20251001T140000
DTEND;TZID=America/New_York:20251112T160000
DTSTAMP:20260423T042912
CREATED:20250321T191055Z
LAST-MODIFIED:20250827T220111Z
UID:63894-1759327200-1762963200@growinghumankindness.com
SUMMARY:Listen: Gentle ways to support your healing with food
DESCRIPTION:If you reactively push against help or get stuck in feelings of resistance – “No\, you can’t make me!” – when you try to make positive changes with food\, it can be so frustrating. In Align: Heal the Battle with Your Inner Rebel\, you’ll learn how to soften the inner conflict between the part of you that wants to change and the part of you that pushes back. Defusing this conflict will help you follow through on the changes you want to make with food\, set limits\, and express a greater sense of power and agency in your life. You can learn more and sign up for the class here.
URL:https://growinghumankindness.com/event/listen-2025/
CATEGORIES:Online class
ATTACH;FMTTYPE=image/png:https://growinghumankindness.com/wp-content/uploads/2022/06/Icon-400px.png
END:VEVENT
BEGIN:VEVENT
DTSTART;TZID=America/New_York:20251212T120000
DTEND;TZID=America/New_York:20251212T140000
DTSTAMP:20260423T042912
CREATED:20251104T164822Z
LAST-MODIFIED:20251104T164822Z
UID:65949-1765540800-1765548000@growinghumankindness.com
SUMMARY:Deepening into Winter: A Creativity Circle
DESCRIPTION:If you reactively push against help or get stuck in feelings of resistance – “No\, you can’t make me!” – when you try to make positive changes with food\, it can be so frustrating. In Align: Heal the Battle with Your Inner Rebel\, you’ll learn how to soften the inner conflict between the part of you that wants to change and the part of you that pushes back. Defusing this conflict will help you follow through on the changes you want to make with food\, set limits\, and express a greater sense of power and agency in your life. You can learn more and sign up for the class here.
URL:https://growinghumankindness.com/event/deepening-into-winter-a-creativity-circle/
CATEGORIES:Online class
ATTACH;FMTTYPE=image/jpeg:https://growinghumankindness.com/wp-content/uploads/2018/03/winter-park.jpg
END:VEVENT
BEGIN:VEVENT
DTSTART;TZID=America/New_York:20260327T120000
DTEND;TZID=America/New_York:20260327T150000
DTSTAMP:20260423T042912
CREATED:20260114T221310Z
LAST-MODIFIED:20260224T155104Z
UID:65982-1774612800-1774623600@growinghumankindness.com
SUMMARY:Gathering Ourselves - Spring Equinox
DESCRIPTION:If you reactively push against help or get stuck in feelings of resistance – “No\, you can’t make me!” – when you try to make positive changes with food\, it can be so frustrating. In Align: Heal the Battle with Your Inner Rebel\, you’ll learn how to soften the inner conflict between the part of you that wants to change and the part of you that pushes back. Defusing this conflict will help you follow through on the changes you want to make with food\, set limits\, and express a greater sense of power and agency in your life. You can learn more and sign up for the class here.
URL:https://growinghumankindness.com/event/gathering-ourselves-march/
CATEGORIES:Online class
ATTACH;FMTTYPE=image/jpeg:https://growinghumankindness.com/wp-content/uploads/2025/04/gathering_ourselves_logo_tamara.jpeg
END:VEVENT
BEGIN:VEVENT
DTSTART;TZID=America/New_York:20260503T130000
DTEND;TZID=America/New_York:20260503T143000
DTSTAMP:20260423T042912
CREATED:20260421T215132Z
LAST-MODIFIED:20260421T215132Z
UID:66040-1777813200-1777818600@growinghumankindness.com
SUMMARY:Poetry reading with One Art
DESCRIPTION:If you reactively push against help or get stuck in feelings of resistance – “No\, you can’t make me!” – when you try to make positive changes with food\, it can be so frustrating. In Align: Heal the Battle with Your Inner Rebel\, you’ll learn how to soften the inner conflict between the part of you that wants to change and the part of you that pushes back. Defusing this conflict will help you follow through on the changes you want to make with food\, set limits\, and express a greater sense of power and agency in your life. You can learn more and sign up for the class here.
URL:https://growinghumankindness.com/event/poetry-reading-with-one-art/
CATEGORIES:Free webinar,Online class
ATTACH;FMTTYPE=image/png:https://growinghumankindness.com/wp-content/uploads/2026/04/Screen-Shot-2026-04-21-at-4.47.39-PM.png
END:VEVENT
BEGIN:VEVENT
DTSTART;TZID=America/New_York:20260603T150000
DTEND;TZID=America/New_York:20260603T180000
DTSTAMP:20260423T042912
CREATED:20260421T215549Z
LAST-MODIFIED:20260421T215549Z
UID:66043-1780498800-1780509600@growinghumankindness.com
SUMMARY:Gathering Ourselves - in person
DESCRIPTION:If you reactively push against help or get stuck in feelings of resistance – “No\, you can’t make me!” – when you try to make positive changes with food\, it can be so frustrating. In Align: Heal the Battle with Your Inner Rebel\, you’ll learn how to soften the inner conflict between the part of you that wants to change and the part of you that pushes back. Defusing this conflict will help you follow through on the changes you want to make with food\, set limits\, and express a greater sense of power and agency in your life. You can learn more and sign up for the class here.
URL:https://growinghumankindness.com/event/gathering-ourselves-in-person/
CATEGORIES:Live event
ATTACH;FMTTYPE=image/jpeg:https://growinghumankindness.com/wp-content/uploads/2025/04/gathering_ourselves_logo_tamara.jpeg
END:VEVENT
BEGIN:VEVENT
DTSTART;TZID=America/New_York:20260626T120000
DTEND;TZID=America/New_York:20260626T150000
DTSTAMP:20260423T042912
CREATED:20260224T155048Z
LAST-MODIFIED:20260224T160124Z
UID:66006-1782475200-1782486000@growinghumankindness.com
SUMMARY:Gathering Ourselves - Summer Solstice
DESCRIPTION:If you reactively push against help or get stuck in feelings of resistance – “No\, you can’t make me!” – when you try to make positive changes with food\, it can be so frustrating. In Align: Heal the Battle with Your Inner Rebel\, you’ll learn how to soften the inner conflict between the part of you that wants to change and the part of you that pushes back. Defusing this conflict will help you follow through on the changes you want to make with food\, set limits\, and express a greater sense of power and agency in your life. You can learn more and sign up for the class here.
URL:https://growinghumankindness.com/event/gathering-ourselves-june/
CATEGORIES:Online class
ATTACH;FMTTYPE=image/jpeg:https://growinghumankindness.com/wp-content/uploads/2025/04/gathering_ourselves_logo_tamara.jpeg
END:VEVENT
BEGIN:VEVENT
DTSTART;TZID=America/New_York:20260925T120000
DTEND;TZID=America/New_York:20260925T150000
DTSTAMP:20260423T042912
CREATED:20260224T155237Z
LAST-MODIFIED:20260224T160000Z
UID:66009-1790337600-1790348400@growinghumankindness.com
SUMMARY:Gathering Ourselves - Autumn Solstice
DESCRIPTION:If you reactively push against help or get stuck in feelings of resistance – “No\, you can’t make me!” – when you try to make positive changes with food\, it can be so frustrating. In Align: Heal the Battle with Your Inner Rebel\, you’ll learn how to soften the inner conflict between the part of you that wants to change and the part of you that pushes back. Defusing this conflict will help you follow through on the changes you want to make with food\, set limits\, and express a greater sense of power and agency in your life. You can learn more and sign up for the class here.
URL:https://growinghumankindness.com/event/gathering-ourselves-september/
CATEGORIES:Online class
ATTACH;FMTTYPE=image/jpeg:https://growinghumankindness.com/wp-content/uploads/2025/04/gathering_ourselves_logo_tamara.jpeg
END:VEVENT
BEGIN:VEVENT
DTSTART;TZID=America/New_York:20261218T120000
DTEND;TZID=America/New_York:20261218T150000
DTSTAMP:20260423T042912
CREATED:20260224T155921Z
LAST-MODIFIED:20260224T155921Z
UID:66011-1797595200-1797606000@growinghumankindness.com
SUMMARY:Gathering Ourselves - Winter Solstice
DESCRIPTION:If you reactively push against help or get stuck in feelings of resistance – “No\, you can’t make me!” – when you try to make positive changes with food\, it can be so frustrating. In Align: Heal the Battle with Your Inner Rebel\, you’ll learn how to soften the inner conflict between the part of you that wants to change and the part of you that pushes back. Defusing this conflict will help you follow through on the changes you want to make with food\, set limits\, and express a greater sense of power and agency in your life. You can learn more and sign up for the class here.
URL:https://growinghumankindness.com/event/gathering-ourselves-winter-solstice/
CATEGORIES:Online class
ATTACH;FMTTYPE=image/jpeg:https://growinghumankindness.com/wp-content/uploads/2025/04/gathering_ourselves_logo_tamara.jpeg
END:VEVENT
END:VCALENDAR